BEGIN:VCALENDAR
VERSION:2.0
PRODID:-//Easy Credit Group - ECPv6.15.4//NONSGML v1.0//EN
CALSCALE:GREGORIAN
METHOD:PUBLISH
X-WR-CALNAME:Easy Credit Group
X-ORIGINAL-URL:http://easycreditgroup.com
X-WR-CALDESC:Events for Easy Credit Group
REFRESH-INTERVAL;VALUE=DURATION:PT1H
X-Robots-Tag:noindex
X-PUBLISHED-TTL:PT1H
BEGIN:VTIMEZONE
TZID:America/Chicago
BEGIN:DAYLIGHT
TZOFFSETFROM:-0600
TZOFFSETTO:-0500
TZNAME:CDT
DTSTART:20250309T080000
END:DAYLIGHT
BEGIN:STANDARD
TZOFFSETFROM:-0500
TZOFFSETTO:-0600
TZNAME:CST
DTSTART:20251102T070000
END:STANDARD
END:VTIMEZONE
BEGIN:VEVENT
DTSTART;TZID=America/Chicago:20250531T190000
DTEND;TZID=America/Chicago:20250531T235900
DTSTAMP:20260425T223441
CREATED:20250429T034111Z
LAST-MODIFIED:20250429T034111Z
UID:357-1748718000-1748735940@easycreditgroup.com
SUMMARY:Deep Ella w/ SouthFM\, NGHTCRWLRZ & Joseph King
DESCRIPTION:White Oak Music Hall\nBuy Tickets: https://flys.pw/ohv\n$12 Presale / $18 Day of Show\nDoors open at 7pm\nArtists\n———–\nHeadliner\n– Deep Ella\nSupport\n– SouthFM\n– NGHTCRWLRZ\n– Joseph King
URL:http://easycreditgroup.com/event/deep-ella-w-southfm-nghtcrwlrz-joseph-king/
LOCATION:White Oak Music Hall\, 2915 N Main St\, Houston\, Texas\, 77009\, United States
ORGANIZER;CN="Easy Credit Group":MAILTO:shane@easycreditgroup.com
END:VEVENT
END:VCALENDAR