BEGIN:VCALENDAR
VERSION:2.0
PRODID:-//Easy Credit Group - ECPv6.15.4//NONSGML v1.0//EN
CALSCALE:GREGORIAN
METHOD:PUBLISH
X-ORIGINAL-URL:http://easycreditgroup.com
X-WR-CALDESC:Events for Easy Credit Group
REFRESH-INTERVAL;VALUE=DURATION:PT1H
X-Robots-Tag:noindex
X-PUBLISHED-TTL:PT1H
BEGIN:VTIMEZONE
TZID:America/Chicago
BEGIN:DAYLIGHT
TZOFFSETFROM:-0600
TZOFFSETTO:-0500
TZNAME:CDT
DTSTART:20250309T080000
END:DAYLIGHT
BEGIN:STANDARD
TZOFFSETFROM:-0500
TZOFFSETTO:-0600
TZNAME:CST
DTSTART:20251102T070000
END:STANDARD
END:VTIMEZONE
BEGIN:VEVENT
DTSTART;TZID=America/Chicago:20250822T190000
DTEND;TZID=America/Chicago:20250822T235900
DTSTAMP:20260425T191041
CREATED:20250807T063208Z
LAST-MODIFIED:20250807T063208Z
UID:361-1755889200-1755907140@easycreditgroup.com
SUMMARY:Goodnight Summer Tour
DESCRIPTION:Friday\, August 22\nThe Far Out Lounge\nDoors at 7pm\nNolo w/ Icarus Bell\, Deep Ella and American Beauty Standards\n* * *\nPLEASE NOTE: Parking is limited\, and rideshares are encouraged!\nThe Far Out Lounge is located at 8504 South Congress. Winner of Best New Venue at the Austin Music Awards 2020.\nhttp://www.thefaroutaustin.com/
URL:http://easycreditgroup.com/event/goodnight-summer-tour/
LOCATION:The Far Our Lounge and Stage\, 8504 S Congress Ave\, Austin\, TX\, 78745\, United States
ORGANIZER;CN="Easy Credit Group":MAILTO:shane@easycreditgroup.com
END:VEVENT
END:VCALENDAR