BEGIN:VCALENDAR
VERSION:2.0
PRODID:-//Easy Credit Group - ECPv6.15.4//NONSGML v1.0//EN
CALSCALE:GREGORIAN
METHOD:PUBLISH
X-ORIGINAL-URL:http://easycreditgroup.com
X-WR-CALDESC:Events for Easy Credit Group
REFRESH-INTERVAL;VALUE=DURATION:PT1H
X-Robots-Tag:noindex
X-PUBLISHED-TTL:PT1H
BEGIN:VTIMEZONE
TZID:America/Chicago
BEGIN:DAYLIGHT
TZOFFSETFROM:-0600
TZOFFSETTO:-0500
TZNAME:CDT
DTSTART:20260308T080000
END:DAYLIGHT
BEGIN:STANDARD
TZOFFSETFROM:-0500
TZOFFSETTO:-0600
TZNAME:CST
DTSTART:20261101T070000
END:STANDARD
END:VTIMEZONE
BEGIN:VEVENT
DTSTART;TZID=America/Chicago:20260620T190000
DTEND;TZID=America/Chicago:20260620T233000
DTSTAMP:20260425T094551
CREATED:20260422T041305Z
LAST-MODIFIED:20260422T041305Z
UID:405-1781982000-1781998200@easycreditgroup.com
SUMMARY:War Within Dreams w/ Town Destroyer & Estraya
DESCRIPTION:Buy Tickets  \n \nDoors open at 7pm \nArtists\n———–\nHeadliner\n– War Within Dreams\nSupport\n– Town Destroyer\n– Estraya
URL:http://easycreditgroup.com/event/war-within-dreams-w-town-destroyer-estraya/
LOCATION:White Oak Music Hall\, 2915 N Main St\, Houston\, Texas\, 77009\, United States
ORGANIZER;CN="Easy Credit Group":MAILTO:shane@easycreditgroup.com
END:VEVENT
END:VCALENDAR