BEGIN:VCALENDAR
VERSION:2.0
PRODID:-//Easy Credit Group - ECPv6.15.4//NONSGML v1.0//EN
CALSCALE:GREGORIAN
METHOD:PUBLISH
X-WR-CALNAME:Easy Credit Group
X-ORIGINAL-URL:http://easycreditgroup.com
X-WR-CALDESC:Events for Easy Credit Group
REFRESH-INTERVAL;VALUE=DURATION:PT1H
X-Robots-Tag:noindex
X-PUBLISHED-TTL:PT1H
BEGIN:VTIMEZONE
TZID:America/Chicago
BEGIN:DAYLIGHT
TZOFFSETFROM:-0600
TZOFFSETTO:-0500
TZNAME:CDT
DTSTART:20260308T080000
END:DAYLIGHT
BEGIN:STANDARD
TZOFFSETFROM:-0500
TZOFFSETTO:-0600
TZNAME:CST
DTSTART:20261101T070000
END:STANDARD
END:VTIMEZONE
BEGIN:VEVENT
DTSTART;TZID=America/Chicago:20260102T190000
DTEND;TZID=America/Chicago:20260102T230000
DTSTAMP:20260425T100830
CREATED:20251114T160000Z
LAST-MODIFIED:20251114T070835Z
UID:381-1767380400-1767394800@easycreditgroup.com
SUMMARY:Come See My Dead Person / InDaSkies / Tekuache
DESCRIPTION:Come See My Dead Person – https://comeseemydeadperson.com/\nInDaSkies – https://music.apple.com/us/artist/indaskies/1218278826\nTekuache – https://tekuache.bandcamp.com/ \nDoors: 7pm This show is ALL AGES All General Admission Tickets are Standing Room only\nWHITE OAK MUSIC HALL IS A CASHLESS VENUE. Please be sure to bring a debit or credit card.\nTickets On Sale Now
URL:http://easycreditgroup.com/event/come-see-my-dead-person-indaskies-tekuache/
LOCATION:White Oak Music Hall\, 2915 N Main St\, Houston\, Texas\, 77009\, United States
ORGANIZER;CN="Easy Credit Group":MAILTO:shane@easycreditgroup.com
END:VEVENT
BEGIN:VEVENT
DTSTART;TZID=America/Chicago:20260109T190000
DTEND;TZID=America/Chicago:20260109T233000
DTSTAMP:20260425T100830
CREATED:20251210T060820Z
LAST-MODIFIED:20251214T055440Z
UID:383-1767985200-1768001400@easycreditgroup.com
SUMMARY:As The City Sleeps w/ Potbelly\, Deep In The Heart & The EmoTrips
DESCRIPTION:Buy Tickets \nPlaylist \nDoors open at 7pm\nArtists\n———–\nHeadliner\n– As The City Sleeps\nSupport\n– Potbelly\n– Deep In The Heart\n– The EmoTrips
URL:http://easycreditgroup.com/event/as-the-city-sleeps-w-potbelly-deep-in-the-heart-the-emotrips/
LOCATION:White Oak Music Hall\, 2915 N Main St\, Houston\, Texas\, 77009\, United States
ORGANIZER;CN="Easy Credit Group":MAILTO:shane@easycreditgroup.com
END:VEVENT
END:VCALENDAR